Package: antiProfiles Version: 1.44.0 Command: rm -rf antiProfiles.buildbin-libdir && mkdir antiProfiles.buildbin-libdir && /Users/biocbuild/BBS/utils/build-universal.sh antiProfiles_1.44.0.tar.gz /Library/Frameworks/R.framework/Resources/bin/R antiProfiles.buildbin-libdir StartedAt: 2024-10-18 17:17:23 -0400 (Fri, 18 Oct 2024) EndedAt: 2024-10-18 17:17:29 -0400 (Fri, 18 Oct 2024) EllapsedTime: 5.7 seconds RetCode: 0 Status: OK PackageFile: antiProfiles_1.44.0.tgz PackageFileSize: 271 KiB