Package: anota2seq Version: 1.26.0 Command: F:\biocbuild\bbs-3.19-bioc\R\bin\R.exe CMD INSTALL anota2seq StartedAt: 2024-06-26 16:35:50 -0400 (Wed, 26 Jun 2024) EndedAt: 2024-06-26 16:36:39 -0400 (Wed, 26 Jun 2024) EllapsedTime: 48.5 seconds RetCode: 0 Status: OK