Package: anota Version: 1.52.0 Command: rm -rf anota.buildbin-libdir && mkdir anota.buildbin-libdir && F:\biocbuild\bbs-3.19-bioc\R\bin\R.exe CMD INSTALL --build --library=anota.buildbin-libdir anota_1.52.0.tar.gz StartedAt: 2024-06-27 07:49:43 -0400 (Thu, 27 Jun 2024) EndedAt: 2024-06-27 07:50:04 -0400 (Thu, 27 Jun 2024) EllapsedTime: 21.3 seconds RetCode: 0 Status: OK PackageFile: anota_1.52.0.zip PackageFileSize: 600.9 KiB