Package: anota Version: 1.52.0 Command: /home/biocbuild/bbs-3.19-bioc/R/bin/R CMD check --install=check:anota.install-out.txt --library=/home/biocbuild/bbs-3.19-bioc/R/site-library --timings anota_1.52.0.tar.gz StartedAt: 2024-10-16 21:37:48 -0400 (Wed, 16 Oct 2024) EndedAt: 2024-10-16 21:39:06 -0400 (Wed, 16 Oct 2024) EllapsedTime: 78.1 seconds RetCode: 0 Status: OK CheckDir: anota.Rcheck Warnings: 0