Package: anota Version: 1.52.0 Command: rm -rf anota.buildbin-libdir && mkdir anota.buildbin-libdir && /Users/biocbuild/BBS/utils/build-universal.sh anota_1.52.0.tar.gz /Library/Frameworks/R.framework/Resources/bin/R anota.buildbin-libdir StartedAt: 2024-06-10 00:06:35 -0400 (Mon, 10 Jun 2024) EndedAt: 2024-06-10 00:06:50 -0400 (Mon, 10 Jun 2024) EllapsedTime: 14.8 seconds RetCode: 0 Status: OK PackageFile: anota_1.52.0.tgz PackageFileSize: 712 KiB