Package: anota Version: 1.52.0 Command: /home/biocbuild/R/R-beta-2024-04-15_r86425/bin/R CMD INSTALL anota StartedAt: 2024-05-08 20:52:31 -0000 (Wed, 08 May 2024) EndedAt: 2024-05-08 20:52:43 -0000 (Wed, 08 May 2024) EllapsedTime: 12.3 seconds RetCode: 0 Status: OK