Package: anota Version: 1.52.0 Command: /home/biocbuild/R/R-beta-2024-04-15_r86425/bin/R CMD check --install=check:anota.install-out.txt --library=/home/biocbuild/R/R-beta-2024-04-15_r86425/site-library --no-vignettes --timings anota_1.52.0.tar.gz StartedAt: 2024-05-09 04:45:44 -0000 (Thu, 09 May 2024) EndedAt: 2024-05-09 04:47:09 -0000 (Thu, 09 May 2024) EllapsedTime: 84.2 seconds RetCode: 0 Status: OK CheckDir: anota.Rcheck Warnings: 0