Package: anota Version: 1.52.0 Command: /Library/Frameworks/R.framework/Resources/bin/R CMD INSTALL anota StartedAt: 2024-06-09 17:02:08 -0400 (Sun, 09 Jun 2024) EndedAt: 2024-06-09 17:02:20 -0400 (Sun, 09 Jun 2024) EllapsedTime: 12.2 seconds RetCode: 0 Status: OK