Package: annotatr Version: 1.30.0 Command: /home/biocbuild/bbs-3.19-bioc/R/bin/R CMD build --keep-empty-dirs --no-resave-data annotatr StartedAt: 2024-10-16 16:55:18 -0400 (Wed, 16 Oct 2024) EndedAt: 2024-10-16 16:57:12 -0400 (Wed, 16 Oct 2024) EllapsedTime: 114.2 seconds RetCode: 0 Status: OK PackageFile: annotatr_1.30.0.tar.gz PackageFileSize: 2.327 MiB