Package: annotatr Version: 1.30.0 Command: /Library/Frameworks/R.framework/Resources/bin/R CMD build --keep-empty-dirs --no-resave-data annotatr StartedAt: 2024-06-09 15:50:38 -0400 (Sun, 09 Jun 2024) EndedAt: 2024-06-09 15:52:42 -0400 (Sun, 09 Jun 2024) EllapsedTime: 123.9 seconds RetCode: 0 Status: OK PackageFile: annotatr_1.30.0.tar.gz PackageFileSize: 2.449 MiB