Package: annotatr Version: 1.30.0 Command: /Library/Frameworks/R.framework/Resources/bin/R CMD check --install=check:annotatr.install-out.txt --library=/Library/Frameworks/R.framework/Resources/library --no-vignettes --timings annotatr_1.30.0.tar.gz StartedAt: 2024-06-10 07:22:04 -0400 (Mon, 10 Jun 2024) EndedAt: 2024-06-10 07:30:38 -0400 (Mon, 10 Jun 2024) EllapsedTime: 513.7 seconds RetCode: 0 Status: OK CheckDir: annotatr.Rcheck Warnings: 0