Package: annotatr Version: 1.30.0 Maintainer: Raymond G. Cavalcante MaintainerEmail: rcavalca at umich.edu git_url: https://git.bioconductor.org/packages/annotatr git_branch: RELEASE_3_19 git_last_commit: aa1c8ba git_last_commit_date: 2024-04-30 10:54:39 -0400 (Tue, 30 Apr 2024)