Package: annotationTools Version: 1.78.0 Command: E:\biocbuild\bbs-3.19-bioc\R\bin\R.exe CMD check --no-multiarch --install=check:annotationTools.install-out.txt --library=E:\biocbuild\bbs-3.19-bioc\R\library --no-vignettes --timings annotationTools_1.78.0.tar.gz StartedAt: 2024-10-16 22:50:15 -0400 (Wed, 16 Oct 2024) EndedAt: 2024-10-16 22:50:51 -0400 (Wed, 16 Oct 2024) EllapsedTime: 36.6 seconds RetCode: 0 Status: OK CheckDir: annotationTools.Rcheck Warnings: 0