Package: annotationTools Version: 1.78.0 Command: chmod a+r annotationTools -R && E:\biocbuild\bbs-3.19-bioc\R\bin\R.exe CMD build --keep-empty-dirs --no-resave-data annotationTools StartedAt: 2024-10-16 17:33:38 -0400 (Wed, 16 Oct 2024) EndedAt: 2024-10-16 17:34:01 -0400 (Wed, 16 Oct 2024) EllapsedTime: 23.6 seconds RetCode: 0 Status: OK PackageFile: annotationTools_1.78.0.tar.gz PackageFileSize: 333.9 KiB