Package: annotationTools Version: 1.78.0 Command: chmod a+r annotationTools -R && F:\biocbuild\bbs-3.19-bioc\R\bin\R.exe CMD build --keep-empty-dirs --no-resave-data annotationTools StartedAt: 2024-06-26 17:04:58 -0400 (Wed, 26 Jun 2024) EndedAt: 2024-06-26 17:05:16 -0400 (Wed, 26 Jun 2024) EllapsedTime: 17.2 seconds RetCode: 0 Status: OK PackageFile: annotationTools_1.78.0.tar.gz PackageFileSize: 333.6 KiB