Package: annotationTools Version: 1.78.0 Command: /home/biocbuild/bbs-3.19-bioc/R/bin/R CMD build --keep-empty-dirs --no-resave-data annotationTools StartedAt: 2024-10-16 16:55:11 -0400 (Wed, 16 Oct 2024) EndedAt: 2024-10-16 16:55:19 -0400 (Wed, 16 Oct 2024) EllapsedTime: 8.0 seconds RetCode: 0 Status: OK PackageFile: annotationTools_1.78.0.tar.gz PackageFileSize: 333.8 KiB