Package: annotationTools Version: 1.78.0 Command: /Library/Frameworks/R.framework/Resources/bin/R CMD check --install=check:annotationTools.install-out.txt --library=/Library/Frameworks/R.framework/Resources/library --no-vignettes --timings annotationTools_1.78.0.tar.gz StartedAt: 2024-10-17 01:04:11 -0400 (Thu, 17 Oct 2024) EndedAt: 2024-10-17 01:05:12 -0400 (Thu, 17 Oct 2024) EllapsedTime: 61.7 seconds RetCode: 0 Status: OK CheckDir: annotationTools.Rcheck Warnings: 0