Package: annotationTools Version: 1.78.0 Command: /Library/Frameworks/R.framework/Resources/bin/R CMD build --keep-empty-dirs --no-resave-data annotationTools StartedAt: 2024-10-16 19:22:47 -0400 (Wed, 16 Oct 2024) EndedAt: 2024-10-16 19:23:03 -0400 (Wed, 16 Oct 2024) EllapsedTime: 15.8 seconds RetCode: 0 Status: OK PackageFile: annotationTools_1.78.0.tar.gz PackageFileSize: 333.6 KiB