Package: annotationTools Version: 1.78.0 Command: rm -rf annotationTools.buildbin-libdir && mkdir annotationTools.buildbin-libdir && /Users/biocbuild/BBS/utils/build-universal.sh annotationTools_1.78.0.tar.gz /Library/Frameworks/R.framework/Resources/bin/R annotationTools.buildbin-libdir StartedAt: 2024-10-18 17:17:02 -0400 (Fri, 18 Oct 2024) EndedAt: 2024-10-18 17:17:08 -0400 (Fri, 18 Oct 2024) EllapsedTime: 5.7 seconds RetCode: 0 Status: OK PackageFile: annotationTools_1.78.0.tgz PackageFileSize: 391.6 KiB