Package: annotate Version: 1.82.0 Command: chmod a+r annotate -R && F:\biocbuild\bbs-3.19-bioc\R\bin\R.exe CMD build --keep-empty-dirs --no-resave-data annotate StartedAt: 2024-06-26 17:04:25 -0400 (Wed, 26 Jun 2024) EndedAt: 2024-06-26 17:09:59 -0400 (Wed, 26 Jun 2024) EllapsedTime: 333.7 seconds RetCode: 0 Status: OK PackageFile: annotate_1.82.0.tar.gz PackageFileSize: 1.695 MiB