Package: annotate Version: 1.82.0 Command: /Library/Frameworks/R.framework/Resources/bin/R CMD check --install=check:annotate.install-out.txt --library=/Library/Frameworks/R.framework/Resources/library --no-vignettes --timings annotate_1.82.0.tar.gz StartedAt: 2024-06-10 07:18:59 -0400 (Mon, 10 Jun 2024) EndedAt: 2024-06-10 07:32:24 -0400 (Mon, 10 Jun 2024) EllapsedTime: 804.9 seconds RetCode: 0 Status: OK CheckDir: annotate.Rcheck Warnings: 0