Package: annotate Version: 1.82.0 Command: /Library/Frameworks/R.framework/Resources/bin/R CMD build --keep-empty-dirs --no-resave-data annotate StartedAt: 2024-10-16 19:20:17 -0400 (Wed, 16 Oct 2024) EndedAt: 2024-10-16 19:21:58 -0400 (Wed, 16 Oct 2024) EllapsedTime: 101.1 seconds RetCode: 0 Status: OK PackageFile: annotate_1.82.0.tar.gz PackageFileSize: 1.785 MiB