Package: annmap Version: 1.46.0 Command: /home/biocbuild/bbs-3.19-bioc/R/bin/R CMD INSTALL annmap StartedAt: 2024-10-16 16:30:54 -0400 (Wed, 16 Oct 2024) EndedAt: 2024-10-16 16:31:17 -0400 (Wed, 16 Oct 2024) EllapsedTime: 22.8 seconds RetCode: 0 Status: OK