Package: annmap Version: 1.46.0 Command: /home/biocbuild/bbs-3.19-bioc/R/bin/R CMD check --install=check:annmap.install-out.txt --library=/home/biocbuild/bbs-3.19-bioc/R/site-library --timings annmap_1.46.0.tar.gz StartedAt: 2024-10-16 21:36:44 -0400 (Wed, 16 Oct 2024) EndedAt: 2024-10-16 21:39:31 -0400 (Wed, 16 Oct 2024) EllapsedTime: 166.4 seconds RetCode: 0 Status: WARNINGS CheckDir: annmap.Rcheck Warnings: 1