Package: annmap Version: 1.46.0 Command: /Library/Frameworks/R.framework/Resources/bin/R CMD check --install=check:annmap.install-out.txt --library=/Library/Frameworks/R.framework/Resources/library --no-vignettes --timings annmap_1.46.0.tar.gz StartedAt: 2024-10-17 01:02:17 -0400 (Thu, 17 Oct 2024) EndedAt: 2024-10-17 01:08:37 -0400 (Thu, 17 Oct 2024) EllapsedTime: 380.4 seconds RetCode: 0 Status: WARNINGS CheckDir: annmap.Rcheck Warnings: 1