Package: annmap Version: 1.46.0 Command: /Library/Frameworks/R.framework/Resources/bin/R CMD build --keep-empty-dirs --no-resave-data annmap StartedAt: 2024-10-16 17:02:39 -0400 (Wed, 16 Oct 2024) EndedAt: 2024-10-16 17:04:07 -0400 (Wed, 16 Oct 2024) EllapsedTime: 87.8 seconds RetCode: 0 Status: OK PackageFile: annmap_1.46.0.tar.gz PackageFileSize: 1.005 MiB