Package: annmap Version: 1.46.0 Command: /Library/Frameworks/R.framework/Resources/bin/R CMD INSTALL annmap StartedAt: 2024-06-09 16:57:52 -0400 (Sun, 09 Jun 2024) EndedAt: 2024-06-09 16:58:20 -0400 (Sun, 09 Jun 2024) EllapsedTime: 28.3 seconds RetCode: 0 Status: OK