Package: annmap Version: 1.46.0 Command: /Library/Frameworks/R.framework/Resources/bin/R CMD check --install=check:annmap.install-out.txt --library=/Library/Frameworks/R.framework/Resources/library --no-vignettes --timings annmap_1.46.0.tar.gz StartedAt: 2024-06-10 07:18:56 -0400 (Mon, 10 Jun 2024) EndedAt: 2024-06-10 07:22:49 -0400 (Mon, 10 Jun 2024) EllapsedTime: 232.5 seconds RetCode: 0 Status: WARNINGS CheckDir: annmap.Rcheck Warnings: 1