Package: annmap Version: 1.46.0 Command: rm -rf annmap.buildbin-libdir && mkdir annmap.buildbin-libdir && /Users/biocbuild/BBS/utils/build-universal.sh annmap_1.46.0.tar.gz /Library/Frameworks/R.framework/Resources/bin/R annmap.buildbin-libdir StartedAt: 2024-10-18 17:16:31 -0400 (Fri, 18 Oct 2024) EndedAt: 2024-10-18 17:17:06 -0400 (Fri, 18 Oct 2024) EllapsedTime: 34.4 seconds RetCode: 0 Status: OK PackageFile: annmap_1.46.0.tgz PackageFileSize: 1.286 MiB