Package: annmap Version: 1.46.0 Maintainer: Chris Wirth MaintainerEmail: Christopher.Wirth at cruk.manchester.ac.uk git_url: https://git.bioconductor.org/packages/annmap git_branch: RELEASE_3_19 git_last_commit: e6a0bcc git_last_commit_date: 2024-04-30 10:27:57 -0400 (Tue, 30 Apr 2024)