Package: annaffy Version: 1.76.0 Command: E:\biocbuild\bbs-3.19-bioc\R\bin\R.exe CMD check --no-multiarch --install=check:annaffy.install-out.txt --library=E:\biocbuild\bbs-3.19-bioc\R\library --no-vignettes --timings annaffy_1.76.0.tar.gz StartedAt: 2024-10-16 22:49:10 -0400 (Wed, 16 Oct 2024) EndedAt: 2024-10-16 22:51:23 -0400 (Wed, 16 Oct 2024) EllapsedTime: 132.9 seconds RetCode: 0 Status: WARNINGS CheckDir: annaffy.Rcheck Warnings: 1