Package: annaffy Version: 1.76.0 Command: rm -rf annaffy.buildbin-libdir && mkdir annaffy.buildbin-libdir && E:\biocbuild\bbs-3.19-bioc\R\bin\R.exe CMD INSTALL --build --library=annaffy.buildbin-libdir annaffy_1.76.0.tar.gz StartedAt: 2024-10-17 07:19:41 -0400 (Thu, 17 Oct 2024) EndedAt: 2024-10-17 07:20:21 -0400 (Thu, 17 Oct 2024) EllapsedTime: 40.8 seconds RetCode: 0 Status: OK PackageFile: annaffy_1.76.0.zip PackageFileSize: 591.8 KiB