Package: annaffy Version: 1.76.0 Command: rm -rf annaffy.buildbin-libdir && mkdir annaffy.buildbin-libdir && F:\biocbuild\bbs-3.19-bioc\R\bin\R.exe CMD INSTALL --build --library=annaffy.buildbin-libdir annaffy_1.76.0.tar.gz StartedAt: 2024-06-27 07:49:27 -0400 (Thu, 27 Jun 2024) EndedAt: 2024-06-27 07:49:53 -0400 (Thu, 27 Jun 2024) EllapsedTime: 25.8 seconds RetCode: 0 Status: OK PackageFile: annaffy_1.76.0.zip PackageFileSize: 590.9 KiB