Package: annaffy Version: 1.76.0 Command: /home/biocbuild/bbs-3.19-bioc/R/bin/R CMD check --install=check:annaffy.install-out.txt --library=/home/biocbuild/bbs-3.19-bioc/R/site-library --timings annaffy_1.76.0.tar.gz StartedAt: 2024-10-16 21:36:30 -0400 (Wed, 16 Oct 2024) EndedAt: 2024-10-16 21:38:20 -0400 (Wed, 16 Oct 2024) EllapsedTime: 109.2 seconds RetCode: 0 Status: WARNINGS CheckDir: annaffy.Rcheck Warnings: 1