Package: annaffy Version: 1.76.0 Command: rm -rf annaffy.buildbin-libdir && mkdir annaffy.buildbin-libdir && /Users/biocbuild/BBS/utils/build-universal.sh annaffy_1.76.0.tar.gz /Library/Frameworks/R.framework/Resources/bin/R annaffy.buildbin-libdir StartedAt: 2024-10-18 17:16:15 -0400 (Fri, 18 Oct 2024) EndedAt: 2024-10-18 17:16:41 -0400 (Fri, 18 Oct 2024) EllapsedTime: 25.2 seconds RetCode: 0 Status: OK PackageFile: annaffy_1.76.0.tgz PackageFileSize: 694.2 KiB