Package: animalcules Version: 1.20.0 Command: chmod a+r animalcules -R && E:\biocbuild\bbs-3.19-bioc\R\bin\R.exe CMD build --keep-empty-dirs --no-resave-data animalcules StartedAt: 2024-10-16 17:32:46 -0400 (Wed, 16 Oct 2024) EndedAt: 2024-10-16 17:34:18 -0400 (Wed, 16 Oct 2024) EllapsedTime: 92.5 seconds RetCode: 0 Status: OK PackageFile: animalcules_1.20.0.tar.gz PackageFileSize: 3.162 MiB