Package: animalcules Version: 1.20.0 Command: rm -rf animalcules.buildbin-libdir && mkdir animalcules.buildbin-libdir && E:\biocbuild\bbs-3.19-bioc\R\bin\R.exe CMD INSTALL --build --library=animalcules.buildbin-libdir animalcules_1.20.0.tar.gz StartedAt: 2024-10-17 07:19:39 -0400 (Thu, 17 Oct 2024) EndedAt: 2024-10-17 07:20:37 -0400 (Thu, 17 Oct 2024) EllapsedTime: 58.6 seconds RetCode: 0 Status: OK PackageFile: animalcules_1.20.0.zip PackageFileSize: 3.33 MiB