Package: animalcules Version: 1.20.0 Command: rm -rf animalcules.buildbin-libdir && mkdir animalcules.buildbin-libdir && F:\biocbuild\bbs-3.19-bioc\R\bin\R.exe CMD INSTALL --build --library=animalcules.buildbin-libdir animalcules_1.20.0.tar.gz StartedAt: 2024-06-27 07:49:25 -0400 (Thu, 27 Jun 2024) EndedAt: 2024-06-27 07:50:17 -0400 (Thu, 27 Jun 2024) EllapsedTime: 51.8 seconds RetCode: 0 Status: OK PackageFile: animalcules_1.20.0.zip PackageFileSize: 3.331 MiB