Package: animalcules Version: 1.20.0 Command: /home/biocbuild/bbs-3.19-bioc/R/bin/R CMD check --install=check:animalcules.install-out.txt --library=/home/biocbuild/bbs-3.19-bioc/R/site-library --timings animalcules_1.20.0.tar.gz StartedAt: 2024-10-16 21:36:24 -0400 (Wed, 16 Oct 2024) EndedAt: 2024-10-16 21:41:04 -0400 (Wed, 16 Oct 2024) EllapsedTime: 279.7 seconds RetCode: 0 Status: OK CheckDir: animalcules.Rcheck Warnings: 0