Package: animalcules Version: 1.20.0 Command: /home/biocbuild/bbs-3.19-bioc/R/bin/R CMD build --keep-empty-dirs --no-resave-data animalcules StartedAt: 2024-10-16 16:54:16 -0400 (Wed, 16 Oct 2024) EndedAt: 2024-10-16 16:55:18 -0400 (Wed, 16 Oct 2024) EllapsedTime: 62.1 seconds RetCode: 0 Status: OK PackageFile: animalcules_1.20.0.tar.gz PackageFileSize: 3.291 MiB