Package: animalcules Version: 1.20.0 Command: rm -rf animalcules.buildbin-libdir && mkdir animalcules.buildbin-libdir && /Users/biocbuild/BBS/utils/build-universal.sh animalcules_1.20.0.tar.gz /Library/Frameworks/R.framework/Resources/bin/R animalcules.buildbin-libdir StartedAt: 2024-10-17 15:37:34 -0400 (Thu, 17 Oct 2024) EndedAt: 2024-10-17 15:38:58 -0400 (Thu, 17 Oct 2024) EllapsedTime: 83.8 seconds RetCode: 0 Status: OK PackageFile: animalcules_1.20.0.tgz PackageFileSize: 3.486 MiB