Package: animalcules Version: 1.20.0 Command: /Library/Frameworks/R.framework/Resources/bin/R CMD build --keep-empty-dirs --no-resave-data animalcules StartedAt: 2024-06-09 17:59:48 -0400 (Sun, 09 Jun 2024) EndedAt: 2024-06-09 18:01:11 -0400 (Sun, 09 Jun 2024) EllapsedTime: 82.9 seconds RetCode: 0 Status: OK PackageFile: animalcules_1.20.0.tar.gz PackageFileSize: 3.325 MiB