Package: animalcules Version: 1.20.0 Command: rm -rf animalcules.buildbin-libdir && mkdir animalcules.buildbin-libdir && /Users/biocbuild/BBS/utils/build-universal.sh animalcules_1.20.0.tar.gz /Library/Frameworks/R.framework/Resources/bin/R animalcules.buildbin-libdir StartedAt: 2024-06-11 10:07:02 -0400 (Tue, 11 Jun 2024) EndedAt: 2024-06-11 10:08:07 -0400 (Tue, 11 Jun 2024) EllapsedTime: 65.2 seconds RetCode: 0 Status: OK PackageFile: animalcules_1.20.0.tgz PackageFileSize: 3.488 MiB