Package: animalcules Version: 1.20.0 Command: /Library/Frameworks/R.framework/Resources/bin/R CMD build --keep-empty-dirs --no-resave-data animalcules StartedAt: 2024-10-16 19:19:27 -0400 (Wed, 16 Oct 2024) EndedAt: 2024-10-16 19:20:45 -0400 (Wed, 16 Oct 2024) EllapsedTime: 78.3 seconds RetCode: 0 Status: OK PackageFile: animalcules_1.20.0.tar.gz PackageFileSize: 3.326 MiB