Package: animalcules Version: 1.20.0 Command: rm -rf animalcules.buildbin-libdir && mkdir animalcules.buildbin-libdir && /Users/biocbuild/BBS/utils/build-universal.sh animalcules_1.20.0.tar.gz /Library/Frameworks/R.framework/Resources/bin/R animalcules.buildbin-libdir StartedAt: 2024-10-18 17:16:06 -0400 (Fri, 18 Oct 2024) EndedAt: 2024-10-18 17:16:57 -0400 (Fri, 18 Oct 2024) EllapsedTime: 50.3 seconds RetCode: 0 Status: OK PackageFile: animalcules_1.20.0.tgz PackageFileSize: 3.489 MiB