Package: animalcules Version: 1.20.0 Maintainer: Jessica McClintock MaintainerEmail: jessica.mcclintock at rutgers.edu git_url: https://git.bioconductor.org/packages/animalcules git_branch: RELEASE_3_19 git_last_commit: bed4447 git_last_commit_date: 2024-04-30 11:14:46 -0400 (Tue, 30 Apr 2024)