Package: amplican Version: 1.26.0 Command: chmod a+r amplican -R && E:\biocbuild\bbs-3.19-bioc\R\bin\R.exe CMD build --keep-empty-dirs --no-resave-data amplican StartedAt: 2024-10-16 17:32:18 -0400 (Wed, 16 Oct 2024) EndedAt: 2024-10-16 17:34:24 -0400 (Wed, 16 Oct 2024) EllapsedTime: 126.5 seconds RetCode: 0 Status: OK PackageFile: amplican_1.26.0.tar.gz PackageFileSize: 6.573 MiB