Package: amplican Version: 1.26.0 Command: chmod a+r amplican -R && F:\biocbuild\bbs-3.19-bioc\R\bin\R.exe CMD build --keep-empty-dirs --no-resave-data amplican StartedAt: 2024-06-26 17:03:40 -0400 (Wed, 26 Jun 2024) EndedAt: 2024-06-26 17:05:42 -0400 (Wed, 26 Jun 2024) EllapsedTime: 122.3 seconds RetCode: 0 Status: OK PackageFile: amplican_1.26.0.tar.gz PackageFileSize: 6.573 MiB