Package: amplican Version: 1.26.0 Command: /home/biocbuild/R/R-beta-2024-04-15_r86425/bin/R CMD check --install=check:amplican.install-out.txt --library=/home/biocbuild/R/R-beta-2024-04-15_r86425/site-library --no-vignettes --timings amplican_1.26.0.tar.gz StartedAt: 2024-05-09 04:42:24 -0000 (Thu, 09 May 2024) EndedAt: 2024-05-09 04:45:48 -0000 (Thu, 09 May 2024) EllapsedTime: 204.3 seconds RetCode: 0 Status: OK CheckDir: amplican.Rcheck Warnings: 0