Package: altcdfenvs Version: 2.66.0 Command: E:\biocbuild\bbs-3.19-bioc\R\bin\R.exe CMD INSTALL altcdfenvs StartedAt: 2024-10-16 16:12:25 -0400 (Wed, 16 Oct 2024) EndedAt: 2024-10-16 16:13:00 -0400 (Wed, 16 Oct 2024) EllapsedTime: 34.2 seconds RetCode: 0 Status: OK